Workbook

Sheet 工程表
A1: Excel・Word無料テンプレート集
B2: 工 事 工 程 表
B3: 工事名 | D3: ○○ビル1階 店舗内装改修工事 | J3: 着工日 | O3: 46328 | V3: 作成日 | AA3: 46317
B4: 工事場所 | D4: ○○市○○町1-2-3 | J4: 竣工予定日 | O4: =MAX(G12:G54) -> 46378 | V4: 作成者 | AA4: ○○ ○○
B5: 施工会社 | D5: 株式会社○○建設 | V5: 全体進捗 | AA5: =IFERROR(SUMPRODUCT((B12:B54<>"")*F12:F54*H12:H54)/SUMPRODUCT((B12:B54<>"")*F12:F54),0) -> 0.19444444
B7: 黄色の欄に入力すると、バーが自動で表示されます | J7: 予定 | P7: 完了分 | V7: 工種まとめ | AB7: 本日 | AH7: 土日 | AN7: 祝日・休業日
B9: No | C9: 工種・作業名 | D9: 担当業者 | E9: 開始日 | F9: 日数 | G9: 終了日 | H9: 進捗 | I9: =MONTH(I10)&"月" -> 11月 | J9: =IF(DAY(J10)=1,MONTH(J10)&"月","") | K9: =IF(DAY(K10)=1,MONTH(K10)&"月","") | L9: =IF(DAY(L10)=1,MONTH(L10)&"月","") | M9: =IF(DAY(M10)=1,MONTH(M10)&"月","") | N9: =IF(DAY(N10)=1,MONTH(N10)&"月","") | O9: =IF(DAY(O10)=1,MONTH(O10)&"月","") | P9: =IF(DAY(P10)=1,MONTH(P10)&"月","") | Q9: =IF(DAY(Q10)=1,MONTH(Q10)&"月","") | ... BS9: =IF(DAY(BS10)=1,MONTH(BS10)&"月","")
I10: =$O$3 -> 46328 | J10: =I10+1 -> 46329 | K10: =J10+1 -> 46330 | L10: =K10+1 -> 46331 | M10: =L10+1 -> 46332 | N10: =M10+1 -> 46333 | O10: =N10+1 -> 46334 | P10: =O10+1 -> 46335 | Q10: =P10+1 -> 46336 | ... BS10: =BR10+1 -> 46390
I11: =IF(COUNTIF(祝日!$A$5:$A$80,I10)>0,IF(INDEX(祝日!$C$5:$C$80,MATCH(I10,祝日!$A$5:$A$80,0))="休業日","休","祝"),CHOOSE(WEEKDAY(I10),"日","月","火","水","木","金","土")) -> 月 | J11: =IF(COUNTIF(祝日!$A$5:$A$80,J10)>0,IF(INDEX(祝日!$C$5:$C$80,MATCH(J10,祝日!$A$5:$A$80,0))="休業日","休","祝"),CHOOSE(WEEKDAY(J10),"日","月","火","水","木","金","土")) -> 祝 | K11: =IF(COUNTIF(祝日!$A$5:$A$80,K10)>0,IF(INDEX(祝日!$C$5:$C$80,MATCH(K10,祝日!$A$5:$A$80,0))="休業日","休","祝"),CHOOSE(WEEKDAY(K10),"日","月","火","水","木","金","土")) -> 水 | L11: =IF(COUNTIF(祝日!$A$5:$A$80,L10)>0,IF(INDEX(祝日!$C$5:$C$80,MATCH(L10,祝日!$A$5:$A$80,0))="休業日","休","祝"),CHOOSE(WEEKDAY(L10),"日","月","火","水","木","金","土")) -> 木 | M11: =IF(COUNTIF(祝日!$A$5:$A$80,M10)>0,IF(INDEX(祝日!$C$5:$C$80,MATCH(M10,祝日!$A$5:$A$80,0))="休業日","休","祝"),CHOOSE(WEEKDAY(M10),"日","月","火","水","木","金","土")) -> 金 | N11: =IF(COUNTIF(祝日!$A$5:$A$80,N10)>0,IF(INDEX(祝日!$C$5:$C$80,MATCH(N10,祝日!$A$5:$A$80,0))="休業日","休","祝"),CHOOSE(WEEKDAY(N10),"日","月","火","水","木","金","土")) -> 土 | O11: =IF(COUNTIF(祝日!$A$5:$A$80,O10)>0,IF(INDEX(祝日!$C$5:$C$80,MATCH(O10,祝日!$A$5:$A$80,0))="休業日","休","祝"),CHOOSE(WEEKDAY(O10),"日","月","火","水","木","金","土")) -> 日 | P11: =IF(COUNTIF(祝日!$A$5:$A$80,P10)>0,IF(INDEX(祝日!$C$5:$C$80,MATCH(P10,祝日!$A$5:$A$80,0))="休業日","休","祝"),CHOOSE(WEEKDAY(P10),"日","月","火","水","木","金","土")) -> 月 | ... BS11: =IF(COUNTIF(祝日!$A$5:$A$80,BS10)>0,IF(INDEX(祝日!$C$5:$C$80,MATCH(BS10,祝日!$A$5:$A$80,0))="休業日","休","祝"),CHOOSE(WEEKDAY(BS10),"日","月","火","水","木","金","土")) -> 休
B12: 1 | C12: 準備工事 | E12: =MIN(E13:E14) -> 46328 | F12: =G12-E12+1 -> 4 | G12: =MAX(G13:G14) -> 46331 | H12: =IFERROR(SUMPRODUCT(F13:F14,H13:H14)/SUM(F13:F14),0) -> 1
C13: 現場調査・墨出し | D13: 自社 | E13: 46328 | F13: 2 | G13: =IF(E13="","",E13+F13-1) -> 46329 | H13: 1
C14: 養生・仮設設置 | D14: 自社 | E14: 46330 | F14: 2 | G14: =IF(E14="","",E14+F14-1) -> 46331 | H14: 1
B15: 2 | C15: 解体工事 | E15: =MIN(E16:E17) -> 46332 | F15: =G15-E15+1 -> 6 | G15: =MAX(G16:G17) -> 46337 | H15: =IFERROR(SUMPRODUCT(F16:F17,H16:H17)/SUM(F16:F17),0) -> 0.85714286
C16: 既存内装解体 | D16: ○○解体 | E16: 46332 | F16: 5 | G16: =IF(E16="","",E16+F16-1) -> 46336 | H16: 1
C17: 産廃搬出 | D17: ○○解体 | E17: 46336 | F17: 2 | G17: =IF(E17="","",E17+F17-1) -> 46337 | H17: 0.5
B18: 3 | C18: 設備工事 | E18: =MIN(E19:E21) -> 46338 | F18: =G18-E18+1 -> 10 | G18: =MAX(G19:G21) -> 46347 | H18: =IFERROR(SUMPRODUCT(F19:F21,H19:H21)/SUM(F19:F21),0) -> 0.25238095
C19: 電気配線 | D19: ○○電気 | E19: 46338 | F19: 8 | G19: =IF(E19="","",E19+F19-1) -> 46345 | H19: 0.4
C20: 給排水配管 | D20: ○○設備 | E20: 46338 | F20: 7 | G20: =IF(E20="","",E20+F20-1) -> 46344 | H20: 0.3
C21: 空調ダクト | D21: ○○空調 | E21: 46342 | F21: 6 | G21: =IF(E21="","",E21+F21-1) -> 46347 | H21: 0
B22: 4 | C22: 内装工事 | E22: =MIN(E23:E27) -> 46344 | F22: =G22-E22+1 -> 25 | G22: =MAX(G23:G27) -> 46368 | H22: =IFERROR(SUMPRODUCT(F23:F27,H23:H27)/SUM(F23:F27),0) -> 0
C23: 軽量鉄骨下地 | D23: ○○内装 | E23: 46344 | F23: 7 | G23: =IF(E23="","",E23+F23-1) -> 46350 | H23: 0
C24: ボード張り | D24: ○○内装 | E24: 46350 | F24: 6 | G24: =IF(E24="","",E24+F24-1) -> 46355 | H24: 0
C25: 天井仕上げ | D25: ○○内装 | E25: 46355 | F25: 5 | G25: =IF(E25="","",E25+F25-1) -> 46359 | H25: 0
C26: クロス張り | D26: ○○内装 | E26: 46360 | F26: 6 | G26: =IF(E26="","",E26+F26-1) -> 46365 | H26: 0
C27: 床仕上げ | D27: ○○床 | E27: 46364 | F27: 5 | G27: =IF(E27="","",E27+F27-1) -> 46368 | H27: 0
B28: 5 | C28: 建具工事 | E28: =MIN(E29:E29) -> 46362 | F28: =G28-E28+1 -> 4 | G28: =MAX(G29:G29) -> 46365 | H28: =IFERROR(SUMPRODUCT(F29:F29,H29:H29)/SUM(F29:F29),0) -> 0
C29: 建具取付 | D29: ○○建具 | E29: 46362 | F29: 4 | G29: =IF(E29="","",E29+F29-1) -> 46365 | H29: 0
B30: 6 | C30: 仕上・検査 | E30: =MIN(E31:E34) -> 46368 | F30: =G30-E30+1 -> 11 | G30: =MAX(G31:G34) -> 46378 | H30: =IFERROR(SUMPRODUCT(F31:F34,H31:H34)/SUM(F31:F34),0) -> 0
C31: 器具付け | D31: ○○電気 | E31: 46368 | F31: 4 | G31: =IF(E31="","",E31+F31-1) -> 46371 | H31: 0
C32: 美装・清掃 | D32: ○○美装 | E32: 46372 | F32: 3 | G32: =IF(E32="","",E32+F32-1) -> 46374 | H32: 0
C33: 社内検査 | D33: 自社 | E33: 46375 | F33: 1 | G33: =IF(E33="","",E33+F33-1) -> 46375 | H33: 0
C34: 竣工検査・引渡し | D34: 自社 | E34: 46377 | F34: 2 | G34: =IF(E34="","",E34+F34-1) -> 46378 | H34: 0
G35: =IF(E35="","",E35+F35-1)
G36: =IF(E36="","",E36+F36-1)
G50: =IF(E50="","",E50+F50-1)
G51: =IF(E51="","",E51+F51-1)
G52: =IF(E52="","",E52+F52-1)
G53: =IF(E53="","",E53+F53-1)
G54: =IF(E54="","",E54+F54-1)

Sheet 祝日
A1: 祝日・休業日 一覧
A2: 出典：内閣府「国民の祝日について」（2026・2027年）。会社の休業日（年末年始・お盆など）は区分を「休業日」にして下の空欄に追加してください。
A4: 日付 | B4: 名称 | C4: 区分
A5: 46023 | B5: 元日 | C5: 祝日
A6: 46034 | B6: 成人の日 | C6: 祝日
A7: 46064 | B7: 建国記念の日 | C7: 祝日
A8: 46076 | B8: 天皇誕生日 | C8: 祝日
A9: 46101 | B9: 春分の日 | C9: 祝日
A10: 46141 | B10: 昭和の日 | C10: 祝日
A11: 46145 | B11: 憲法記念日 | C11: 祝日
A12: 46146 | B12: みどりの日 | C12: 祝日
A13: 46147 | B13: こどもの日 | C13: 祝日
A14: 46148 | B14: 振替休日 | C14: 祝日
A15: 46223 | B15: 海の日 | C15: 祝日
A16: 46245 | B16: 山の日 | C16: 祝日
... A44: 46390 | B44: 年末年始休業（例） | C44: 休業日
